BEGIN:VCALENDAR
VERSION:2.0
PRODID:-//API ProAm Gemini - ECPv6.15.17.1//NONSGML v1.0//EN
CALSCALE:GREGORIAN
METHOD:PUBLISH
X-WR-CALNAME:API ProAm Gemini
X-ORIGINAL-URL:https://gemini.obspm.fr
X-WR-CALDESC:Évènements pour API ProAm Gemini
REFRESH-INTERVAL;VALUE=DURATION:PT1H
X-Robots-Tag:noindex
X-PUBLISHED-TTL:PT1H
BEGIN:VTIMEZONE
TZID:Europe/Paris
BEGIN:DAYLIGHT
TZOFFSETFROM:+0100
TZOFFSETTO:+0200
TZNAME:CEST
DTSTART:20240331T010000
END:DAYLIGHT
BEGIN:STANDARD
TZOFFSETFROM:+0200
TZOFFSETTO:+0100
TZNAME:CET
DTSTART:20241027T010000
END:STANDARD
BEGIN:DAYLIGHT
TZOFFSETFROM:+0100
TZOFFSETTO:+0200
TZNAME:CEST
DTSTART:20250330T010000
END:DAYLIGHT
BEGIN:STANDARD
TZOFFSETFROM:+0200
TZOFFSETTO:+0100
TZNAME:CET
DTSTART:20251026T010000
END:STANDARD
BEGIN:DAYLIGHT
TZOFFSETFROM:+0100
TZOFFSETTO:+0200
TZNAME:CEST
DTSTART:20260329T010000
END:DAYLIGHT
BEGIN:STANDARD
TZOFFSETFROM:+0200
TZOFFSETTO:+0100
TZNAME:CET
DTSTART:20261025T010000
END:STANDARD
END:VTIMEZONE
BEGIN:VEVENT
DTSTART;TZID=Europe/Paris:20251004T143000
DTEND;TZID=Europe/Paris:20251004T170000
DTSTAMP:20260420T144712
CREATED:20250922T153348Z
LAST-MODIFIED:20250922T153932Z
UID:6003-1759588200-1759597200@gemini.obspm.fr
SUMMARY:Ganymede Campaign meeting
DESCRIPTION:Réunion CT2A Gemini campagne occultation Ganymède\nDepuis le siège de la SAF et sur Zoom (sessions en anglais et en français). \nAvec les interventions de Valery Lainey\, Josselin Desmars\, Arnaud Leroy et Thierry Midavaine.\n• Valery Lainey : The stellar occultation of Oct. 14th: a unique opportunity to test the European ephemerides of the Jovian system before the arrival of Juice.\n• Josselin Desmars : Maps and data related to the forecasted event\n• Thierry Midavaine : The ability to measure the diameter and the shape of the cross section of an occulted star\n• Arnaud Leroy : Setup configuration 10 days to be ready\, preliminary test on the targets\n• Tune the latency of each amateur setup for the European wide occultation chaser community.\n• Q&A\n• Session Question Réponse en français \nInscription / Registration\n 
URL:https://gemini.obspm.fr/event/ganymede-campaign-meeting/
LOCATION:Société Astronomique de France\, 3 rue Beethoven\, Paris\, 75016\, France
CATEGORIES:Atelier
ATTACH;FMTTYPE=image/png:https://gemini.obspm.fr/wp-content/uploads/2025/07/20250715-Ganymede-Occultation-HIP-37442.png
END:VEVENT
END:VCALENDAR